BEGIN:VCALENDAR
VERSION:2.0
PRODID:-//MaineGuide.com - ECPv6.15.18//NONSGML v1.0//EN
CALSCALE:GREGORIAN
METHOD:PUBLISH
X-WR-CALNAME:MaineGuide.com
X-ORIGINAL-URL:https://maineguide.com
X-WR-CALDESC:Events for MaineGuide.com
REFRESH-INTERVAL;VALUE=DURATION:PT1H
X-Robots-Tag:noindex
X-PUBLISHED-TTL:PT1H
BEGIN:VTIMEZONE
TZID:America/New_York
BEGIN:DAYLIGHT
TZOFFSETFROM:-0500
TZOFFSETTO:-0400
TZNAME:EDT
DTSTART:20250309T070000
END:DAYLIGHT
BEGIN:STANDARD
TZOFFSETFROM:-0400
TZOFFSETTO:-0500
TZNAME:EST
DTSTART:20251102T060000
END:STANDARD
BEGIN:DAYLIGHT
TZOFFSETFROM:-0500
TZOFFSETTO:-0400
TZNAME:EDT
DTSTART:20260308T070000
END:DAYLIGHT
BEGIN:STANDARD
TZOFFSETFROM:-0400
TZOFFSETTO:-0500
TZNAME:EST
DTSTART:20261101T060000
END:STANDARD
BEGIN:DAYLIGHT
TZOFFSETFROM:-0500
TZOFFSETTO:-0400
TZNAME:EDT
DTSTART:20270314T070000
END:DAYLIGHT
BEGIN:STANDARD
TZOFFSETFROM:-0400
TZOFFSETTO:-0500
TZNAME:EST
DTSTART:20271107T060000
END:STANDARD
END:VTIMEZONE
BEGIN:VEVENT
DTSTART;TZID=America/New_York:20260404T100000
DTEND;TZID=America/New_York:20260404T170000
DTSTAMP:20260425T084759
CREATED:20260325T101410Z
LAST-MODIFIED:20260325T101410Z
UID:2912-1775296800-1775322000@maineguide.com
SUMMARY:Sunday River Spring Fest
DESCRIPTION:Jimmy Buffet-themed spring ski festival at Sunday River with margarita mix-offs and pond skimming.
URL:https://maineguide.com/event/sunday-river-spring-fest/
LOCATION:Bethel\, Maine\, Bethel\, Maine
ATTACH;FMTTYPE=image/jpeg:https://maineguide.com/wp-content/uploads/2026/03/event-2912.jpg
END:VEVENT
BEGIN:VEVENT
DTSTART;TZID=America/New_York:20260322T090000
DTEND;TZID=America/New_York:20260322T160000
DTSTAMP:20260425T084759
CREATED:20260308T132908Z
LAST-MODIFIED:20260308T132908Z
UID:1367-1774170000-1774195200@maineguide.com
SUMMARY:Maine Maple Sunday
DESCRIPTION:
URL:https://maineguide.com/event/maine-maple-sunday/
ATTACH;FMTTYPE=image/jpeg:https://maineguide.com/wp-content/uploads/2026/03/event-1367.jpg
END:VEVENT
BEGIN:VEVENT
DTSTART;TZID=America/New_York:20260306T080000
DTEND;TZID=America/New_York:20260308T170000
DTSTAMP:20260425T084759
CREATED:20260308T132935Z
LAST-MODIFIED:20260308T132935Z
UID:1369-1772784000-1772989200@maineguide.com
SUMMARY:Maine Fishermen's Forum
DESCRIPTION:
URL:https://maineguide.com/event/maine-fishermens-forum/
ATTACH;FMTTYPE=image/jpeg:https://maineguide.com/wp-content/uploads/2026/03/event-1369.jpg
END:VEVENT
BEGIN:VEVENT
DTSTART;TZID=America/New_York:20260306T080000
DTEND;TZID=America/New_York:20260308T180000
DTSTAMP:20260425T084759
CREATED:20260308T132710Z
LAST-MODIFIED:20260308T132710Z
UID:1358-1772784000-1772992800@maineguide.com
SUMMARY:Can-Am Crown International Sled Dog Race
DESCRIPTION:
URL:https://maineguide.com/event/can-am-crown-international-sled-dog-race/
ATTACH;FMTTYPE=image/jpeg:https://maineguide.com/wp-content/uploads/2026/03/event-1358-v2.jpg
END:VEVENT
BEGIN:VEVENT
DTSTART;TZID=America/New_York:20260228T090000
DTEND;TZID=America/New_York:20260228T150000
DTSTAMP:20260425T084759
CREATED:20260308T132814Z
LAST-MODIFIED:20260308T132814Z
UID:1363-1772269200-1772290800@maineguide.com
SUMMARY:Maine State Snowshoe Championships
DESCRIPTION:
URL:https://maineguide.com/event/maine-state-snowshoe-championships/
ATTACH;FMTTYPE=image/jpeg:https://maineguide.com/wp-content/uploads/2026/03/event-1363.jpg
END:VEVENT
BEGIN:VEVENT
DTSTART;TZID=America/New_York:20260221T100000
DTEND;TZID=America/New_York:20260221T170000
DTSTAMP:20260425T084759
CREATED:20260325T101410Z
LAST-MODIFIED:20260325T101410Z
UID:2910-1771668000-1771693200@maineguide.com
SUMMARY:Flavors of Freeport
DESCRIPTION:Freeport culinary celebration with elite local restaurants and a Frosty Frolic outdoor oyster bar.
URL:https://maineguide.com/event/flavors-of-freeport/
LOCATION:Freeport\, Maine\, Freeport\, Maine
ATTACH;FMTTYPE=image/jpeg:https://maineguide.com/wp-content/uploads/2026/03/event-2910.jpg
END:VEVENT
BEGIN:VEVENT
DTSTART;TZID=America/New_York:20260221T100000
DTEND;TZID=America/New_York:20260221T170000
DTSTAMP:20260425T084759
CREATED:20260325T101409Z
LAST-MODIFIED:20260325T101409Z
UID:2909-1771668000-1771693200@maineguide.com
SUMMARY:Bath Winterfest
DESCRIPTION:Winter celebration in Bath with traditional activities and a lantern parade.
URL:https://maineguide.com/event/bath-winterfest/
LOCATION:Bath\, Maine\, Bath\, Maine
ATTACH;FMTTYPE=image/jpeg:https://maineguide.com/wp-content/uploads/2026/03/event-2909.jpg
END:VEVENT
BEGIN:VEVENT
DTSTART;TZID=America/New_York:20260221T090000
DTEND;TZID=America/New_York:20260222T180000
DTSTAMP:20260425T084759
CREATED:20260308T132801Z
LAST-MODIFIED:20260308T132801Z
UID:1362-1771664400-1771783200@maineguide.com
SUMMARY:Rangeley Lakes Snowmobile Snodeo
DESCRIPTION:
URL:https://maineguide.com/event/rangeley-lakes-snowmobile-snodeo/
LOCATION:Rangeley\, Maine\, Rangeley\, Maine
ATTACH;FMTTYPE=image/jpeg:https://maineguide.com/wp-content/uploads/2026/03/event-1362.jpg
END:VEVENT
BEGIN:VEVENT
DTSTART;TZID=America/New_York:20260214T100000
DTEND;TZID=America/New_York:20260214T170000
DTSTAMP:20260425T084759
CREATED:20260325T101409Z
LAST-MODIFIED:20260325T101409Z
UID:2906-1771063200-1771088400@maineguide.com
SUMMARY:US National Toboggan Championships
DESCRIPTION:Teams race in crazy costumes down Camden Snow Bowl toboggan run for the fastest time.
URL:https://maineguide.com/event/us-national-toboggan-championships/
LOCATION:Camden\, Maine\, Camden\, Maine
ATTACH;FMTTYPE=image/jpeg:https://maineguide.com/wp-content/uploads/2026/03/event-2906.jpg
END:VEVENT
BEGIN:VEVENT
DTSTART;TZID=America/New_York:20260214T100000
DTEND;TZID=America/New_York:20260214T170000
DTSTAMP:20260425T084759
CREATED:20260325T101409Z
LAST-MODIFIED:20260325T101409Z
UID:2907-1771063200-1771088400@maineguide.com
SUMMARY:Longfellow Days
DESCRIPTION:Literary festival celebrating Henry Wadsworth Longfellow at Bowdoin College in Brunswick.
URL:https://maineguide.com/event/longfellow-days/
LOCATION:Brunswick\, Maine\, Brunswick\, Maine
ATTACH;FMTTYPE=image/jpeg:https://maineguide.com/wp-content/uploads/2026/03/event-2907.jpg
END:VEVENT
BEGIN:VEVENT
DTSTART;TZID=America/New_York:20260214T080000
DTEND;TZID=America/New_York:20260215T180000
DTSTAMP:20260425T084759
CREATED:20260308T132749Z
LAST-MODIFIED:20260308T132749Z
UID:1361-1771056000-1771178400@maineguide.com
SUMMARY:Maine Pond Hockey Classic
DESCRIPTION:
URL:https://maineguide.com/event/maine-pond-hockey-classic/
ATTACH;FMTTYPE=image/jpeg:https://maineguide.com/wp-content/uploads/2026/03/event-1361.jpg
END:VEVENT
BEGIN:VEVENT
DTSTART;TZID=America/New_York:20260213T080000
DTEND;TZID=America/New_York:20260216T170000
DTSTAMP:20260425T084759
CREATED:20260308T132737Z
LAST-MODIFIED:20260308T132737Z
UID:1360-1770969600-1771261200@maineguide.com
SUMMARY:Great Backyard Bird Count
DESCRIPTION:
URL:https://maineguide.com/event/great-backyard-bird-count/
ATTACH;FMTTYPE=image/jpeg:https://maineguide.com/wp-content/uploads/2026/03/event-1360.jpg
END:VEVENT
BEGIN:VEVENT
DTSTART;TZID=America/New_York:20260207T060000
DTEND;TZID=America/New_York:20260208T160000
DTSTAMP:20260425T084759
CREATED:20260308T132723Z
LAST-MODIFIED:20260308T132723Z
UID:1359-1770444000-1770566400@maineguide.com
SUMMARY:Moosehead Lake Ice Fishing Derby
DESCRIPTION:
URL:https://maineguide.com/event/moosehead-lake-ice-fishing-derby/
LOCATION:Moosehead Lake\, Maine\, Moosehead Lake\, Maine
ATTACH;FMTTYPE=image/png:https://maineguide.com/wp-content/uploads/2026/03/event-1359.png
END:VEVENT
BEGIN:VEVENT
DTSTART;TZID=America/New_York:20260124T100000
DTEND;TZID=America/New_York:20260124T170000
DTSTAMP:20260425T084759
CREATED:20260325T101409Z
LAST-MODIFIED:20260325T101409Z
UID:2904-1769248800-1769274000@maineguide.com
SUMMARY:Camden Winterfest
DESCRIPTION:Annual one-day winter festival in Camden Harbor featuring ice carving and a polar plunge.
URL:https://maineguide.com/event/camden-winterfest/
LOCATION:Camden\, Maine\, Camden\, Maine
ATTACH;FMTTYPE=image/jpeg:https://maineguide.com/wp-content/uploads/2026/03/event-2904.jpg
END:VEVENT
BEGIN:VEVENT
DTSTART;TZID=America/New_York:20260117T100000
DTEND;TZID=America/New_York:20260117T170000
DTSTAMP:20260425T084759
CREATED:20260325T101409Z
LAST-MODIFIED:20260325T101409Z
UID:2905-1768644000-1768669200@maineguide.com
SUMMARY:Rangeley Snodeo
DESCRIPTION:Mid-January snowmobile celebration on Rangeley Lake with sled races and fireworks.
URL:https://maineguide.com/event/rangeley-snodeo/
LOCATION:Rangeley\, Maine\, Rangeley\, Maine
ATTACH;FMTTYPE=image/jpeg:https://maineguide.com/wp-content/uploads/2026/03/event-2905.jpg
END:VEVENT
END:VCALENDAR