BEGIN:VCALENDAR
VERSION:2.0
PRODID:-//MaineGuide.com - ECPv6.15.18//NONSGML v1.0//EN
CALSCALE:GREGORIAN
METHOD:PUBLISH
X-ORIGINAL-URL:https://maineguide.com
X-WR-CALDESC:Events for MaineGuide.com
REFRESH-INTERVAL;VALUE=DURATION:PT1H
X-Robots-Tag:noindex
X-PUBLISHED-TTL:PT1H
BEGIN:VTIMEZONE
TZID:America/New_York
BEGIN:DAYLIGHT
TZOFFSETFROM:-0500
TZOFFSETTO:-0400
TZNAME:EDT
DTSTART:20250309T070000
END:DAYLIGHT
BEGIN:STANDARD
TZOFFSETFROM:-0400
TZOFFSETTO:-0500
TZNAME:EST
DTSTART:20251102T060000
END:STANDARD
BEGIN:DAYLIGHT
TZOFFSETFROM:-0500
TZOFFSETTO:-0400
TZNAME:EDT
DTSTART:20260308T070000
END:DAYLIGHT
BEGIN:STANDARD
TZOFFSETFROM:-0400
TZOFFSETTO:-0500
TZNAME:EST
DTSTART:20261101T060000
END:STANDARD
BEGIN:DAYLIGHT
TZOFFSETFROM:-0500
TZOFFSETTO:-0400
TZNAME:EDT
DTSTART:20270314T070000
END:DAYLIGHT
BEGIN:STANDARD
TZOFFSETFROM:-0400
TZOFFSETTO:-0500
TZNAME:EST
DTSTART:20271107T060000
END:STANDARD
END:VTIMEZONE
BEGIN:VEVENT
DTSTART;TZID=America/New_York:20260410T180000
DTEND;TZID=America/New_York:20260410T210000
DTSTAMP:20260423T053448
CREATED:20260308T133232Z
LAST-MODIFIED:20260308T133232Z
UID:1382-1775844000-1775854800@maineguide.com
SUMMARY:Portland Sea Dogs Home Opener
DESCRIPTION:
URL:https://maineguide.com/event/portland-sea-dogs-home-opener/
LOCATION:Portland\, Maine\, Portland\, Maine
ATTACH;FMTTYPE=image/jpeg:https://maineguide.com/wp-content/uploads/2026/03/event-1382.jpg
END:VEVENT
BEGIN:VEVENT
DTSTART;TZID=America/New_York:20260411T100000
DTEND;TZID=America/New_York:20260411T170000
DTSTAMP:20260423T053448
CREATED:20260325T101410Z
LAST-MODIFIED:20260325T101410Z
UID:2914-1775901600-1775926800@maineguide.com
SUMMARY:Sugarloaf Reggae Fest
DESCRIPTION:Three-day reggae music festival on Sugarloaf ski slopes with over 8 live bands and 10000 attendees.
URL:https://maineguide.com/event/sugarloaf-reggae-fest/
LOCATION:Carrabassett Valley\, Maine\, Carrabassett Valley\, Maine
ATTACH;FMTTYPE=image/jpeg:https://maineguide.com/wp-content/uploads/2026/03/event-2914.jpg
END:VEVENT
BEGIN:VEVENT
DTSTART;TZID=America/New_York:20260412T090000
DTEND;TZID=America/New_York:20260412T170000
DTSTAMP:20260423T053448
CREATED:20260324T102837Z
LAST-MODIFIED:20260324T102837Z
UID:2764-1775984400-1776013200@maineguide.com
SUMMARY:Boyden Lake Half Marathon
DESCRIPTION:Annual half marathon at Boyden Lake in Perry.
URL:https://maineguide.com/event/boyden-lake-half-marathon/
LOCATION:Perry\, Maine\, Perry\, Maine
ATTACH;FMTTYPE=image/jpeg:https://maineguide.com/wp-content/uploads/2026/03/event-2764.jpg
END:VEVENT
BEGIN:VEVENT
DTSTART;TZID=America/New_York:20260418T080000
DTEND;TZID=America/New_York:20260418T160000
DTSTAMP:20260423T053448
CREATED:20260308T130322Z
LAST-MODIFIED:20260325T104521Z
UID:1344-1776499200-1776528000@maineguide.com
SUMMARY:Kenduskeag Stream Canoe Race
DESCRIPTION:New England’s largest whitewater canoe race draws over 500 boats through 16 miles of the Kenduskeag Stream into Bangor. A Maine spring tradition since 1967\, held annually on the third Saturday of April.
URL:https://maineguide.com/event/kenduskeag-stream-canoe-race/
LOCATION:Bangor\, Maine\, Bangor\, Maine
CATEGORIES:Outdoor Recreation
ATTACH;FMTTYPE=image/jpeg:https://maineguide.com/wp-content/uploads/2026/03/Kenduskeag-Stream-Canoe-Race-Bangor-Maine.jpg
END:VEVENT
BEGIN:VEVENT
DTSTART;TZID=America/New_York:20260418T100000
DTEND;TZID=America/New_York:20260418T170000
DTSTAMP:20260423T053448
CREATED:20260325T101410Z
LAST-MODIFIED:20260325T101410Z
UID:2916-1776506400-1776531600@maineguide.com
SUMMARY:Portland Chowderfest
DESCRIPTION:Portland restaurants compete for best chowder with no rules on ingredients.
URL:https://maineguide.com/event/portland-chowderfest/
LOCATION:Portland\, Maine\, Portland\, Maine
ATTACH;FMTTYPE=image/jpeg:https://maineguide.com/wp-content/uploads/2026/03/event-2916.jpg
END:VEVENT
BEGIN:VEVENT
DTSTART;TZID=America/New_York:20260502T100000
DTEND;TZID=America/New_York:20260502T170000
DTSTAMP:20260423T053448
CREATED:20260325T101410Z
LAST-MODIFIED:20260325T101410Z
UID:2917-1777716000-1777741200@maineguide.com
SUMMARY:Kennebunk May Day Festival
DESCRIPTION:Family-friendly hometown parade\, live music\, craft fairs\, and farmers markets in downtown Kennebunk.
URL:https://maineguide.com/event/kennebunk-may-day-festival/
LOCATION:Kennebunk\, Maine\, Kennebunk\, Maine
ATTACH;FMTTYPE=image/jpeg:https://maineguide.com/wp-content/uploads/2026/03/event-2917.jpg
END:VEVENT
BEGIN:VEVENT
DTSTART;TZID=America/New_York:20260509T120000
DTEND;TZID=America/New_York:20260509T180000
DTSTAMP:20260423T053448
CREATED:20260308T133016Z
LAST-MODIFIED:20260308T133016Z
UID:1372-1778328000-1778349600@maineguide.com
SUMMARY:Maine Real Ale Festival
DESCRIPTION:
URL:https://maineguide.com/event/maine-real-ale-festival/
ATTACH;FMTTYPE=image/jpeg:https://maineguide.com/wp-content/uploads/2026/03/event-1372.jpg
END:VEVENT
BEGIN:VEVENT
DTSTART;TZID=America/New_York:20260522T070000
DTEND;TZID=America/New_York:20260525T180000
DTSTAMP:20260423T053448
CREATED:20260308T132947Z
LAST-MODIFIED:20260325T105614Z
UID:1370-1779433200-1779732000@maineguide.com
SUMMARY:Annual Birding Festival Acadia
DESCRIPTION:
URL:https://maineguide.com/event/annual-birding-festival-acadia/
LOCATION:Bar Harbor\, Maine\, Bar Harbor\, Maine
ATTACH;FMTTYPE=image/jpeg:https://maineguide.com/wp-content/uploads/2026/03/Maine-Birds.jpg
END:VEVENT
BEGIN:VEVENT
DTSTART;TZID=America/New_York:20260523T090000
DTEND;TZID=America/New_York:20260523T170000
DTSTAMP:20260423T053448
CREATED:20260324T102837Z
LAST-MODIFIED:20260324T102837Z
UID:2766-1779526800-1779555600@maineguide.com
SUMMARY:Downeast Spring Birding Festival
DESCRIPTION:Premier birding festival on the Downeast coast over Memorial Weekend with guided tours and talks.
URL:https://maineguide.com/event/downeast-spring-birding-festival/
LOCATION:Trescott\, Maine\, Trescott\, Maine
ATTACH;FMTTYPE=image/jpeg:https://maineguide.com/wp-content/uploads/2026/03/event-2766.jpg
END:VEVENT
BEGIN:VEVENT
DTSTART;TZID=America/New_York:20260530T120000
DTEND;TZID=America/New_York:20260530T170000
DTSTAMP:20260423T053448
CREATED:20260308T133029Z
LAST-MODIFIED:20260308T133029Z
UID:1373-1780142400-1780160400@maineguide.com
SUMMARY:Peaks Island Brew Fest
DESCRIPTION:
URL:https://maineguide.com/event/peaks-island-brew-fest/
LOCATION:Portland\, Maine\, Portland\, Maine
ATTACH;FMTTYPE=image/jpeg:https://maineguide.com/wp-content/uploads/2026/03/event-1373.jpg
END:VEVENT
BEGIN:VEVENT
DTSTART;TZID=America/New_York:20260601T080000
DTEND;TZID=America/New_York:20260831T170000
DTSTAMP:20260423T053448
CREATED:20260308T133107Z
LAST-MODIFIED:20260308T133107Z
UID:1376-1780300800-1788195600@maineguide.com
SUMMARY:Castine Kayak Adventures Summer Series
DESCRIPTION:
URL:https://maineguide.com/event/castine-kayak-adventures-summer-series/
LOCATION:Castine\, Maine\, Castine\, Maine
ATTACH;FMTTYPE=image/jpeg:https://maineguide.com/wp-content/uploads/2026/03/event-1376.jpg
END:VEVENT
BEGIN:VEVENT
DTSTART;TZID=America/New_York:20260605T080000
DTEND;TZID=America/New_York:20260607T170000
DTSTAMP:20260423T053448
CREATED:20260308T132922Z
LAST-MODIFIED:20260308T132922Z
UID:1368-1780646400-1780851600@maineguide.com
SUMMARY:Puffin & Seabird Festival
DESCRIPTION:
URL:https://maineguide.com/event/puffin-seabird-festival/
ATTACH;FMTTYPE=image/jpeg:https://maineguide.com/wp-content/uploads/2026/03/event-1368.jpg
END:VEVENT
BEGIN:VEVENT
DTSTART;TZID=America/New_York:20260605T100000
DTEND;TZID=America/New_York:20260605T170000
DTSTAMP:20260423T053448
CREATED:20260325T101410Z
LAST-MODIFIED:20260325T101410Z
UID:2920-1780653600-1780678800@maineguide.com
SUMMARY:Donut Festival Rockport
DESCRIPTION:Rockport celebrates Captain Hanson Gregory invention of the ring donut on National Donut Day.
URL:https://maineguide.com/event/donut-festival-rockport/
LOCATION:Rockport\, Maine\, Rockport\, Maine
ATTACH;FMTTYPE=image/jpeg:https://maineguide.com/wp-content/uploads/2026/03/event-2920.jpg
END:VEVENT
BEGIN:VEVENT
DTSTART;TZID=America/New_York:20260606T090000
DTEND;TZID=America/New_York:20260606T170000
DTSTAMP:20260423T053448
CREATED:20260324T102837Z
LAST-MODIFIED:20260324T102837Z
UID:2768-1780736400-1780765200@maineguide.com
SUMMARY:Kendall Farms Rhubarb Festival
DESCRIPTION:Annual celebration of the season rhubarb harvest with food\, fun\, and farm activities.
URL:https://maineguide.com/event/kendall-farms-rhubarb-festival/
LOCATION:Perry\, Maine\, Perry\, Maine
ATTACH;FMTTYPE=image/jpeg:https://maineguide.com/wp-content/uploads/2026/03/event-2768.jpg
END:VEVENT
BEGIN:VEVENT
DTSTART;TZID=America/New_York:20260606T090000
DTEND;TZID=America/New_York:20260607T170000
DTSTAMP:20260423T053448
CREATED:20260308T130329Z
LAST-MODIFIED:20260308T130329Z
UID:1355-1780736400-1780851600@maineguide.com
SUMMARY:Maine Fiber Frolic
DESCRIPTION:A celebration of fiber arts held each June in Windsor\, featuring sheep shearing demonstrations\, alpaca shows\, spinning and weaving\, and vendors selling wool\, yarn\, and fiber art supplies.
URL:https://maineguide.com/event/maine-fiber-frolic/
CATEGORIES:Festivals
ATTACH;FMTTYPE=image/jpeg:https://maineguide.com/wp-content/uploads/2026/03/Maine-foliage-best-2.jpg
END:VEVENT
BEGIN:VEVENT
DTSTART;TZID=America/New_York:20260607T100000
DTEND;TZID=America/New_York:20260607T180000
DTSTAMP:20260423T053448
CREATED:20260308T133042Z
LAST-MODIFIED:20260308T133042Z
UID:1374-1780826400-1780855200@maineguide.com
SUMMARY:Old Port Festival Portland
DESCRIPTION:
URL:https://maineguide.com/event/old-port-festival-portland/
LOCATION:Portland\, Maine\, Portland\, Maine
ATTACH;FMTTYPE=image/jpeg:https://maineguide.com/wp-content/uploads/2026/03/event-1374.jpg
END:VEVENT
BEGIN:VEVENT
DTSTART;TZID=America/New_York:20260613T080000
DTEND;TZID=America/New_York:20260620T180000
DTSTAMP:20260423T053448
CREATED:20260308T132959Z
LAST-MODIFIED:20260308T132959Z
UID:1371-1781337600-1781978400@maineguide.com
SUMMARY:Moose River Canoe Trip
DESCRIPTION:
URL:https://maineguide.com/event/moose-river-canoe-trip/
ATTACH;FMTTYPE=image/jpeg:https://maineguide.com/wp-content/uploads/2026/03/event-1371.jpg
END:VEVENT
BEGIN:VEVENT
DTSTART;TZID=America/New_York:20260614T100000
DTEND;TZID=America/New_York:20260614T170000
DTSTAMP:20260423T053448
CREATED:20260325T101410Z
LAST-MODIFIED:20260325T101410Z
UID:2918-1781431200-1781456400@maineguide.com
SUMMARY:Wiscasset Wormfest
DESCRIPTION:Community celebration of Wiscasset worm digging heritage dubbed worm capital of the world by National Geographic.
URL:https://maineguide.com/event/wiscasset-wormfest/
LOCATION:Wiscasset\, Maine\, Wiscasset\, Maine
ATTACH;FMTTYPE=image/jpeg:https://maineguide.com/wp-content/uploads/2026/03/event-2918.jpg
END:VEVENT
BEGIN:VEVENT
DTSTART;TZID=America/New_York:20260615T190000
DTEND;TZID=America/New_York:20260822T220000
DTSTAMP:20260423T053448
CREATED:20260308T133054Z
LAST-MODIFIED:20260308T133054Z
UID:1375-1781550000-1787436000@maineguide.com
SUMMARY:Maine State Music Theatre
DESCRIPTION:
URL:https://maineguide.com/event/maine-state-music-theatre/
ATTACH;FMTTYPE=image/jpeg:https://maineguide.com/wp-content/uploads/2026/03/event-1375.jpg
END:VEVENT
BEGIN:VEVENT
DTSTART;TZID=America/New_York:20260619T090000
DTEND;TZID=America/New_York:20260619T170000
DTSTAMP:20260423T053448
CREATED:20260324T102837Z
LAST-MODIFIED:20260324T102837Z
UID:2772-1781859600-1781888400@maineguide.com
SUMMARY:Margaretta Days Festival
DESCRIPTION:Annual festival commemorating the first naval battle of the American Revolution fought off Machias in 1775.
URL:https://maineguide.com/event/margaretta-days-festival/
LOCATION:Machias\, Maine\, Machias\, Maine
ATTACH;FMTTYPE=image/jpeg:https://maineguide.com/wp-content/uploads/2026/03/event-2772.jpg
END:VEVENT
BEGIN:VEVENT
DTSTART;TZID=America/New_York:20260620T090000
DTEND;TZID=America/New_York:20260620T170000
DTSTAMP:20260423T053448
CREATED:20260324T102837Z
LAST-MODIFIED:20260324T102837Z
UID:2770-1781946000-1781974800@maineguide.com
SUMMARY:Airport Community Day Wings and Wheels
DESCRIPTION:Annual community day at Eastport airport featuring aircraft displays\, vintage vehicles\, and family activities.
URL:https://maineguide.com/event/airport-community-day-wings-and-wheels/
LOCATION:Eastport\, Maine\, Eastport\, Maine
ATTACH;FMTTYPE=image/jpeg:https://maineguide.com/wp-content/uploads/2026/03/event-2770-1.jpg
END:VEVENT
BEGIN:VEVENT
DTSTART;TZID=America/New_York:20260621T090000
DTEND;TZID=America/New_York:20260621T170000
DTSTAMP:20260423T053448
CREATED:20260324T102837Z
LAST-MODIFIED:20260324T102837Z
UID:2774-1782032400-1782061200@maineguide.com
SUMMARY:Bay of Fundy International Marathon
DESCRIPTION:Scenic marathon and half marathon course between Lubec\, Maine and Campobello Island\, New Brunswick.
URL:https://maineguide.com/event/bay-of-fundy-international-marathon/
LOCATION:Lubec\, Maine\, Lubec\, Maine
END:VEVENT
BEGIN:VEVENT
DTSTART;TZID=America/New_York:20260622T100000
DTEND;TZID=America/New_York:20260627T210000
DTSTAMP:20260423T053448
CREATED:20260308T130328Z
LAST-MODIFIED:20260325T110235Z
UID:1348-1782122400-1782594000@maineguide.com
SUMMARY:Windjammer Days Festival
DESCRIPTION:Boothbay Harbor’s signature summer festival celebrates Maine’s legendary windjammer fleet with tall ship parades\, fireworks\, live music\, and waterfront activities over five days each June.
URL:https://maineguide.com/event/windjammer-days-festival/
LOCATION:Boothbay Harbor\, Maine\, Boothbay Harbor\, Maine
CATEGORIES:Festivals
ATTACH;FMTTYPE=image/jpeg:https://maineguide.com/wp-content/uploads/2026/03/event-2927.jpg
END:VEVENT
BEGIN:VEVENT
DTSTART;TZID=America/New_York:20260627T100000
DTEND;TZID=America/New_York:20260627T160000
DTSTAMP:20260423T053448
CREATED:20260308T133501Z
LAST-MODIFIED:20260308T133501Z
UID:1395-1782554400-1782576000@maineguide.com
SUMMARY:Maine Whoopie Pie Festival
DESCRIPTION:
URL:https://maineguide.com/event/maine-whoopie-pie-festival/
ATTACH;FMTTYPE=image/jpeg:https://maineguide.com/wp-content/uploads/2026/03/event-1395.jpg
END:VEVENT
BEGIN:VEVENT
DTSTART;TZID=America/New_York:20260628T090000
DTEND;TZID=America/New_York:20260628T170000
DTSTAMP:20260423T053448
CREATED:20260324T102838Z
LAST-MODIFIED:20260325T110600Z
UID:2776-1782637200-1782666000@maineguide.com
SUMMARY:DownEast Pride
DESCRIPTION:Annual LGBTQ+ pride celebration in downtown Eastport.
URL:https://maineguide.com/event/downeast-pride/
LOCATION:Eastport\, Maine\, Eastport\, Maine
ATTACH;FMTTYPE=image/png:https://maineguide.com/wp-content/uploads/2026/03/downeast-pride-maine.png
END:VEVENT
BEGIN:VEVENT
DTSTART;TZID=America/New_York:20260701T090000
DTEND;TZID=America/New_York:20260701T170000
DTSTAMP:20260423T053448
CREATED:20260324T102838Z
LAST-MODIFIED:20260324T102838Z
UID:2778-1782896400-1782925200@maineguide.com
SUMMARY:Eastport July 4th Homecoming Week
DESCRIPTION:Week-long Independence Day celebration featuring parades\, fireworks\, and community events in Eastport.
URL:https://maineguide.com/event/eastport-july-4th-homecoming-week/
LOCATION:Eastport\, Maine\, Eastport\, Maine
ATTACH;FMTTYPE=image/jpeg:https://maineguide.com/wp-content/uploads/2026/03/event-2778-v2.jpg
END:VEVENT
BEGIN:VEVENT
DTSTART;TZID=America/New_York:20260701T180000
DTEND;TZID=America/New_York:20260831T200000
DTSTAMP:20260423T053448
CREATED:20260308T133157Z
LAST-MODIFIED:20260308T133157Z
UID:1380-1782928800-1788206400@maineguide.com
SUMMARY:Pemaquid Beach Concert Series
DESCRIPTION:
URL:https://maineguide.com/event/pemaquid-beach-concert-series/
LOCATION:Pemaquid\, Maine\, Pemaquid\, Maine
ATTACH;FMTTYPE=image/jpeg:https://maineguide.com/wp-content/uploads/2026/03/event-1380.jpg
END:VEVENT
BEGIN:VEVENT
DTSTART;TZID=America/New_York:20260703T100000
DTEND;TZID=America/New_York:20260703T170000
DTSTAMP:20260423T053448
CREATED:20260325T101410Z
LAST-MODIFIED:20260325T101410Z
UID:2927-1783072800-1783098000@maineguide.com
SUMMARY:Great Schooner Race
DESCRIPTION:Americas largest gathering of traditional schooners in Rockland with harbor races and public tours.
URL:https://maineguide.com/event/great-schooner-race/
LOCATION:Rockland\, Maine\, Rockland\, Maine
ATTACH;FMTTYPE=image/jpeg:https://maineguide.com/wp-content/uploads/2026/03/event-2927.jpg
END:VEVENT
BEGIN:VEVENT
DTSTART;TZID=America/New_York:20260703T100000
DTEND;TZID=America/New_York:20260705T220000
DTSTAMP:20260423T053448
CREATED:20260308T133255Z
LAST-MODIFIED:20260308T133255Z
UID:1384-1783072800-1783288800@maineguide.com
SUMMARY:Bath Heritage Days
DESCRIPTION:
URL:https://maineguide.com/event/bath-heritage-days/
LOCATION:Bath\, Maine\, Bath\, Maine
ATTACH;FMTTYPE=image/jpeg:https://maineguide.com/wp-content/uploads/2026/03/event-1384.jpg
END:VEVENT
BEGIN:VEVENT
DTSTART;TZID=America/New_York:20260704T100000
DTEND;TZID=America/New_York:20260704T170000
DTSTAMP:20260423T053448
CREATED:20260325T101410Z
LAST-MODIFIED:20260325T101410Z
UID:2922-1783159200-1783184400@maineguide.com
SUMMARY:Bethel Summerfest
DESCRIPTION:Annual Bethel summer festival with fireworks\, animal shows\, live music\, themed parade\, and country broil.
URL:https://maineguide.com/event/bethel-summerfest/
LOCATION:Bethel\, Maine\, Bethel\, Maine
ATTACH;FMTTYPE=image/jpeg:https://maineguide.com/wp-content/uploads/2026/03/event-2922.jpg
END:VEVENT
END:VCALENDAR