BEGIN:VCALENDAR
VERSION:2.0
PRODID:-//MaineGuide.com - ECPv6.15.18//NONSGML v1.0//EN
CALSCALE:GREGORIAN
METHOD:PUBLISH
X-WR-CALNAME:MaineGuide.com
X-ORIGINAL-URL:https://maineguide.com
X-WR-CALDESC:Events for MaineGuide.com
REFRESH-INTERVAL;VALUE=DURATION:PT1H
X-Robots-Tag:noindex
X-PUBLISHED-TTL:PT1H
BEGIN:VTIMEZONE
TZID:America/New_York
BEGIN:DAYLIGHT
TZOFFSETFROM:-0500
TZOFFSETTO:-0400
TZNAME:EDT
DTSTART:20250309T070000
END:DAYLIGHT
BEGIN:STANDARD
TZOFFSETFROM:-0400
TZOFFSETTO:-0500
TZNAME:EST
DTSTART:20251102T060000
END:STANDARD
BEGIN:DAYLIGHT
TZOFFSETFROM:-0500
TZOFFSETTO:-0400
TZNAME:EDT
DTSTART:20260308T070000
END:DAYLIGHT
BEGIN:STANDARD
TZOFFSETFROM:-0400
TZOFFSETTO:-0500
TZNAME:EST
DTSTART:20261101T060000
END:STANDARD
BEGIN:DAYLIGHT
TZOFFSETFROM:-0500
TZOFFSETTO:-0400
TZNAME:EDT
DTSTART:20270314T070000
END:DAYLIGHT
BEGIN:STANDARD
TZOFFSETFROM:-0400
TZOFFSETTO:-0500
TZNAME:EST
DTSTART:20271107T060000
END:STANDARD
END:VTIMEZONE
BEGIN:VEVENT
DTSTART;TZID=America/New_York:20260711T100000
DTEND;TZID=America/New_York:20260711T170000
DTSTAMP:20260425T114608
CREATED:20260325T101410Z
LAST-MODIFIED:20260325T101410Z
UID:2923-1783764000-1783789200@maineguide.com
SUMMARY:Moxie Festival
DESCRIPTION:Annual celebration of Moxie Maine original soda pop with tastings\, recipes\, collector items\, and a chugging contest.
URL:https://maineguide.com/event/moxie-festival/
LOCATION:Lisbon\, Maine\, Lisbon\, Maine
ATTACH;FMTTYPE=image/jpeg:https://maineguide.com/wp-content/uploads/2026/03/event-2923.jpg
END:VEVENT
BEGIN:VEVENT
DTSTART;TZID=America/New_York:20260717T090000
DTEND;TZID=America/New_York:20260719T210000
DTSTAMP:20260425T114608
CREATED:20260308T133429Z
LAST-MODIFIED:20260308T133429Z
UID:1392-1784278800-1784494800@maineguide.com
SUMMARY:Maine Potato Blossom Festival
DESCRIPTION:
URL:https://maineguide.com/event/maine-potato-blossom-festival/
ATTACH;FMTTYPE=image/jpeg:https://maineguide.com/wp-content/uploads/2026/03/event-1392.jpg
END:VEVENT
BEGIN:VEVENT
DTSTART;TZID=America/New_York:20260717T100000
DTEND;TZID=America/New_York:20260719T210000
DTSTAMP:20260425T114608
CREATED:20260308T130328Z
LAST-MODIFIED:20260308T130328Z
UID:1350-1784282400-1784494800@maineguide.com
SUMMARY:Yarmouth Clam Festival
DESCRIPTION:One of Maine’s most popular summer festivals\, the Yarmouth Clam Festival draws over 100\,000 visitors for three days of clam chowder\, fried clams\, carnival rides\, live music\, and a parade.
URL:https://maineguide.com/event/yarmouth-clam-festival/
LOCATION:Yarmouth\, Maine\, Yarmouth\, Maine
CATEGORIES:Festivals
ATTACH;FMTTYPE=image/jpeg:https://maineguide.com/wp-content/uploads/2026/03/Maine-restaurants-2.jpg
END:VEVENT
BEGIN:VEVENT
DTSTART;TZID=America/New_York:20260718T090000
DTEND;TZID=America/New_York:20260719T170000
DTSTAMP:20260425T114608
CREATED:20260308T133244Z
LAST-MODIFIED:20260308T133244Z
UID:1383-1784365200-1784480400@maineguide.com
SUMMARY:Rangeley Lakes Logging Museum Festival
DESCRIPTION:
URL:https://maineguide.com/event/rangeley-lakes-logging-museum-festival/
LOCATION:Rangeley\, Maine\, Rangeley\, Maine
ATTACH;FMTTYPE=image/jpeg:https://maineguide.com/wp-content/uploads/2026/03/event-1383.jpg
END:VEVENT
BEGIN:VEVENT
DTSTART;TZID=America/New_York:20260718T100000
DTEND;TZID=America/New_York:20260718T170000
DTSTAMP:20260425T114608
CREATED:20260325T101410Z
LAST-MODIFIED:20260325T101410Z
UID:2925-1784368800-1784394000@maineguide.com
SUMMARY:North Atlantic Blues Festival
DESCRIPTION:Two-day music festival in Rockland featuring top blues bands from around the country.
URL:https://maineguide.com/event/north-atlantic-blues-festival/
LOCATION:Rockland\, Maine\, Rockland\, Maine
ATTACH;FMTTYPE=image/jpeg:https://maineguide.com/wp-content/uploads/2026/03/event-2925.jpg
END:VEVENT
BEGIN:VEVENT
DTSTART;TZID=America/New_York:20260718T100000
DTEND;TZID=America/New_York:20260718T170000
DTSTAMP:20260425T114608
CREATED:20260325T101410Z
LAST-MODIFIED:20260325T101410Z
UID:2926-1784368800-1784394000@maineguide.com
SUMMARY:Celtic Celebration Belfast
DESCRIPTION:Belfast celebrates Scottish and Irish heritage with live music and heavy games like shot put and hammer throws.
URL:https://maineguide.com/event/celtic-celebration-belfast/
LOCATION:Belfast\, Maine\, Belfast\, Maine
ATTACH;FMTTYPE=image/jpeg:https://maineguide.com/wp-content/uploads/2026/03/event-2926.jpg
END:VEVENT
BEGIN:VEVENT
DTSTART;TZID=America/New_York:20260724T090000
DTEND;TZID=America/New_York:20260724T170000
DTSTAMP:20260425T114608
CREATED:20260324T102838Z
LAST-MODIFIED:20260324T102838Z
UID:2780-1784883600-1784912400@maineguide.com
SUMMARY:DownEast Sunrise Relay Race
DESCRIPTION:Overnight relay race from Ellsworth to Eastport covering some of the most scenic roads in Downeast Maine.
URL:https://maineguide.com/event/downeast-sunrise-relay-race/
LOCATION:Ellsworth\, Maine\, Ellsworth\, Maine
ATTACH;FMTTYPE=image/jpeg:https://maineguide.com/wp-content/uploads/2026/03/event-2780.jpg
END:VEVENT
BEGIN:VEVENT
DTSTART;TZID=America/New_York:20260729T100000
DTEND;TZID=America/New_York:20260802T210000
DTSTAMP:20260425T114608
CREATED:20260308T130322Z
LAST-MODIFIED:20260308T130322Z
UID:1343-1785319200-1785704400@maineguide.com
SUMMARY:Maine Lobster Festival
DESCRIPTION:One of Maine’s most beloved summer traditions\, the Maine Lobster Festival in Rockland draws tens of thousands of visitors for five days of lobster feasts\, live entertainment\, the Great Crate Race\, and the Maine Sea Goddess coronation. Held annually since 1947.
URL:https://maineguide.com/event/maine-lobster-festival/
LOCATION:Rockland\, Maine\, Rockland\, Maine
CATEGORIES:Festivals
ATTACH;FMTTYPE=image/jpeg:https://maineguide.com/wp-content/uploads/2026/03/Maine-restaurants-2.jpg
END:VEVENT
BEGIN:VEVENT
DTSTART;TZID=America/New_York:20260731T090000
DTEND;TZID=America/New_York:20260809T220000
DTSTAMP:20260425T114608
CREATED:20260308T133121Z
LAST-MODIFIED:20260308T133121Z
UID:1377-1785488400-1786312800@maineguide.com
SUMMARY:Bangor State Fair
DESCRIPTION:
URL:https://maineguide.com/event/bangor-state-fair/
LOCATION:Bangor\, Maine\, Bangor\, Maine
ATTACH;FMTTYPE=image/png:https://maineguide.com/wp-content/uploads/2026/03/event-1377.png
END:VEVENT
BEGIN:VEVENT
DTSTART;TZID=America/New_York:20260731T090000
DTEND;TZID=America/New_York:20260731T170000
DTSTAMP:20260425T114608
CREATED:20260324T102838Z
LAST-MODIFIED:20260324T102838Z
UID:2782-1785488400-1785517200@maineguide.com
SUMMARY:Mermaid Ball
DESCRIPTION:Annual mermaid-themed evening celebration in Eastport.
URL:https://maineguide.com/event/mermaid-ball/
LOCATION:Eastport\, Maine\, Eastport\, Maine
ATTACH;FMTTYPE=image/jpeg:https://maineguide.com/wp-content/uploads/2026/03/event-2782.jpg
END:VEVENT
BEGIN:VEVENT
DTSTART;TZID=America/New_York:20260801T090000
DTEND;TZID=America/New_York:20260801T170000
DTSTAMP:20260425T114608
CREATED:20260324T102838Z
LAST-MODIFIED:20260324T102838Z
UID:2784-1785574800-1785603600@maineguide.com
SUMMARY:Mermaid Festival and Parade
DESCRIPTION:Colorful annual festival featuring a mermaid parade through downtown Eastport.
URL:https://maineguide.com/event/mermaid-festival-and-parade/
LOCATION:Eastport\, Maine\, Eastport\, Maine
ATTACH;FMTTYPE=image/jpeg:https://maineguide.com/wp-content/uploads/2026/03/event-2784.jpg
END:VEVENT
BEGIN:VEVENT
DTSTART;TZID=America/New_York:20260801T120000
DTEND;TZID=America/New_York:20260801T180000
DTSTAMP:20260425T114608
CREATED:20260308T133133Z
LAST-MODIFIED:20260308T133133Z
UID:1378-1785585600-1785607200@maineguide.com
SUMMARY:Maine Brewers Festival
DESCRIPTION:
URL:https://maineguide.com/event/maine-brewers-festival/
ATTACH;FMTTYPE=image/jpeg:https://maineguide.com/wp-content/uploads/2026/03/event-1378.jpg
END:VEVENT
BEGIN:VEVENT
DTSTART;TZID=America/New_York:20260807T100000
DTEND;TZID=America/New_York:20260809T170000
DTSTAMP:20260425T114608
CREATED:20260308T130328Z
LAST-MODIFIED:20260308T130328Z
UID:1351-1786096800-1786294800@maineguide.com
SUMMARY:Maine Boats Homes & Harbors Show
DESCRIPTION:New England’s premier in-the-water boat show\, held each August in Rockland\, features over 100 boats\, home products\, and marine services against the backdrop of Penobscot Bay.
URL:https://maineguide.com/event/maine-boats-homes-harbors-show/
CATEGORIES:Festivals
ATTACH;FMTTYPE=image/jpeg:https://maineguide.com/wp-content/uploads/2026/03/Boothbay-Harbor-Maine-vacation-2.jpg
END:VEVENT
BEGIN:VEVENT
DTSTART;TZID=America/New_York:20260808T090000
DTEND;TZID=America/New_York:20260815T220000
DTSTAMP:20260425T114608
CREATED:20260308T133624Z
LAST-MODIFIED:20260308T133624Z
UID:1402-1786179600-1786831200@maineguide.com
SUMMARY:Skowhegan State Fair
DESCRIPTION:
URL:https://maineguide.com/event/skowhegan-state-fair/
LOCATION:Skowhegan\, Maine\, Skowhegan\, Maine
ATTACH;FMTTYPE=image/jpeg:https://maineguide.com/wp-content/uploads/2026/03/event-1402.jpg
END:VEVENT
BEGIN:VEVENT
DTSTART;TZID=America/New_York:20260813T090000
DTEND;TZID=America/New_York:20260815T170000
DTSTAMP:20260425T114608
CREATED:20260308T133214Z
LAST-MODIFIED:20260308T133214Z
UID:1381-1786611600-1786813200@maineguide.com
SUMMARY:Maine Antique Tractor Show
DESCRIPTION:
URL:https://maineguide.com/event/maine-antique-tractor-show/
ATTACH;FMTTYPE=image/png:https://maineguide.com/wp-content/uploads/2026/03/event-1381.png
END:VEVENT
BEGIN:VEVENT
DTSTART;TZID=America/New_York:20260814T090000
DTEND;TZID=America/New_York:20260816T180000
DTSTAMP:20260425T114608
CREATED:20260308T133320Z
LAST-MODIFIED:20260308T133320Z
UID:1386-1786698000-1786903200@maineguide.com
SUMMARY:Machias Wild Blueberry Festival
DESCRIPTION:
URL:https://maineguide.com/event/machias-wild-blueberry-festival/
LOCATION:Machias\, Maine\, Machias\, Maine
ATTACH;FMTTYPE=image/jpeg:https://maineguide.com/wp-content/uploads/2026/03/event-1386.jpg
END:VEVENT
BEGIN:VEVENT
DTSTART;TZID=America/New_York:20260814T100000
DTEND;TZID=America/New_York:20260814T170000
DTSTAMP:20260425T114608
CREATED:20260325T101411Z
LAST-MODIFIED:20260325T101411Z
UID:2930-1786701600-1786726800@maineguide.com
SUMMARY:Forest Heritage Days Greenville
DESCRIPTION:Annual celebration at Moosehead Lake preserving Maine working forest history with bus tours and live logging demonstrations.
URL:https://maineguide.com/event/forest-heritage-days-greenville/
LOCATION:Greenville\, Maine\, Greenville\, Maine
ATTACH;FMTTYPE=image/jpeg:https://maineguide.com/wp-content/uploads/2026/03/event-2930.jpg
END:VEVENT
BEGIN:VEVENT
DTSTART;TZID=America/New_York:20260815T090000
DTEND;TZID=America/New_York:20260815T170000
DTSTAMP:20260425T114608
CREATED:20260324T102838Z
LAST-MODIFIED:20260324T102838Z
UID:2786-1786784400-1786813200@maineguide.com
SUMMARY:Wild Blueberry Festival
DESCRIPTION:Annual celebration of the wild blueberry harvest in Washington County with food\, music\, and crafts.
URL:https://maineguide.com/event/wild-blueberry-festival/
LOCATION:Machias\, Maine\, Machias\, Maine
ATTACH;FMTTYPE=image/jpeg:https://maineguide.com/wp-content/uploads/2026/03/event-2786.jpg
END:VEVENT
BEGIN:VEVENT
DTSTART;TZID=America/New_York:20260815T090000
DTEND;TZID=America/New_York:20260815T180000
DTSTAMP:20260425T114608
CREATED:20260308T130328Z
LAST-MODIFIED:20260308T130328Z
UID:1349-1786784400-1786816800@maineguide.com
SUMMARY:Maine Highland Games
DESCRIPTION:A celebration of Scottish heritage featuring Highland athletics\, pipe bands\, Celtic music\, and traditional Scottish food and crafts\, held annually at the Thomas Point Beach in Brunswick.
URL:https://maineguide.com/event/maine-highland-games/
CATEGORIES:Festivals
ATTACH;FMTTYPE=image/jpeg:https://maineguide.com/wp-content/uploads/2026/03/Maine-beaches-vacation-2.jpg
END:VEVENT
BEGIN:VEVENT
DTSTART;TZID=America/New_York:20260820T060000
DTEND;TZID=America/New_York:20260823T210000
DTSTAMP:20260425T114608
CREATED:20260308T130328Z
LAST-MODIFIED:20260308T130328Z
UID:1352-1787205600-1787518800@maineguide.com
SUMMARY:Crown of Maine Balloon Festival
DESCRIPTION:One of New England’s finest hot air balloon festivals\, held each August in Presque Isle with mass balloon launches at dawn and dusk\, tethered rides\, and evening glow shows over four days.
URL:https://maineguide.com/event/crown-of-maine-balloon-festival/
CATEGORIES:Festivals
ATTACH;FMTTYPE=image/jpeg:https://maineguide.com/wp-content/uploads/2026/03/event-1352.jpg
END:VEVENT
BEGIN:VEVENT
DTSTART;TZID=America/New_York:20260821T100000
DTEND;TZID=America/New_York:20260821T170000
DTSTAMP:20260425T114608
CREATED:20260325T101410Z
LAST-MODIFIED:20260325T101410Z
UID:2928-1787306400-1787331600@maineguide.com
SUMMARY:Great Falls Balloon Festival
DESCRIPTION:One of the largest hot-air balloon festivals in Northern New England with dozens of balloons over the Androscoggin River.
URL:https://maineguide.com/event/great-falls-balloon-festival/
LOCATION:Lewiston\, Maine\, Lewiston\, Maine
ATTACH;FMTTYPE=image/jpeg:https://maineguide.com/wp-content/uploads/2026/03/event-2928.jpg
END:VEVENT
BEGIN:VEVENT
DTSTART;TZID=America/New_York:20260828T080000
DTEND;TZID=America/New_York:20260830T200000
DTSTAMP:20260425T114608
CREATED:20260308T133600Z
LAST-MODIFIED:20260308T133600Z
UID:1400-1787904000-1788120000@maineguide.com
SUMMARY:Maine Yoga Festival
DESCRIPTION:
URL:https://maineguide.com/event/maine-yoga-festival/
ATTACH;FMTTYPE=image/png:https://maineguide.com/wp-content/uploads/2026/03/event-1400.png
END:VEVENT
BEGIN:VEVENT
DTSTART;TZID=America/New_York:20260828T100000
DTEND;TZID=America/New_York:20260830T220000
DTSTAMP:20260425T114608
CREATED:20260308T133635Z
LAST-MODIFIED:20260308T133635Z
UID:1403-1787911200-1788127200@maineguide.com
SUMMARY:Thomas Point Beach Bluegrass Festival
DESCRIPTION:
URL:https://maineguide.com/event/thomas-point-beach-bluegrass-festival/
ATTACH;FMTTYPE=image/jpeg:https://maineguide.com/wp-content/uploads/2026/03/event-1403.jpg
END:VEVENT
BEGIN:VEVENT
DTSTART;TZID=America/New_York:20260831T090000
DTEND;TZID=America/New_York:20260907T220000
DTSTAMP:20260425T114608
CREATED:20260308T133611Z
LAST-MODIFIED:20260308T133611Z
UID:1401-1788166800-1788818400@maineguide.com
SUMMARY:Blue Hill Fair
DESCRIPTION:
URL:https://maineguide.com/event/blue-hill-fair/
ATTACH;FMTTYPE=image/jpeg:https://maineguide.com/wp-content/uploads/2026/03/event-1401.jpg
END:VEVENT
BEGIN:VEVENT
DTSTART;TZID=America/New_York:20260904T090000
DTEND;TZID=America/New_York:20260907T180000
DTSTAMP:20260425T114608
CREATED:20260308T133343Z
LAST-MODIFIED:20260325T105849Z
UID:1388-1788512400-1788804000@maineguide.com
SUMMARY:Windjammer Weekend Camden
DESCRIPTION:
URL:https://maineguide.com/event/windjammer-weekend-camden/
LOCATION:Camden\, Maine\, Camden\, Maine
ATTACH;FMTTYPE=image/jpeg:https://maineguide.com/wp-content/uploads/2026/03/event-1388.jpg
END:VEVENT
BEGIN:VEVENT
DTSTART;TZID=America/New_York:20260904T090000
DTEND;TZID=America/New_York:20260904T170000
DTSTAMP:20260425T114608
CREATED:20260324T102838Z
LAST-MODIFIED:20260324T102838Z
UID:2788-1788512400-1788541200@maineguide.com
SUMMARY:Eastport Salmon and Seafood Festival
DESCRIPTION:Three-day festival celebrating Eastport seafood heritage with fresh salmon\, live music\, and waterfront activities.
URL:https://maineguide.com/event/eastport-salmon-and-seafood-festival/
LOCATION:Eastport\, Maine\, Eastport\, Maine
ATTACH;FMTTYPE=image/jpeg:https://maineguide.com/wp-content/uploads/2026/03/event-2788.jpg
END:VEVENT
BEGIN:VEVENT
DTSTART;TZID=America/New_York:20260905T100000
DTEND;TZID=America/New_York:20260906T170000
DTSTAMP:20260425T114608
CREATED:20260308T133306Z
LAST-MODIFIED:20260308T133306Z
UID:1385-1788602400-1788714000@maineguide.com
SUMMARY:Eastport Salmon Festival
DESCRIPTION:
URL:https://maineguide.com/event/eastport-salmon-festival/
LOCATION:Eastport\, Maine\, Eastport\, Maine
ATTACH;FMTTYPE=image/jpeg:https://maineguide.com/wp-content/uploads/2026/03/event-1385.jpg
END:VEVENT
BEGIN:VEVENT
DTSTART;TZID=America/New_York:20260911T090000
DTEND;TZID=America/New_York:20260911T170000
DTSTAMP:20260425T114608
CREATED:20260324T102838Z
LAST-MODIFIED:20260324T102838Z
UID:2790-1789117200-1789146000@maineguide.com
SUMMARY:20th Eastport Pirate Festival
DESCRIPTION:One of Maine most beloved festivals featuring costumed pirates\, tall ships\, cannon battles\, and family fun over three days.
URL:https://maineguide.com/event/20th-eastport-pirate-festival/
LOCATION:Eastport\, Maine\, Eastport\, Maine
ATTACH;FMTTYPE=image/jpeg:https://maineguide.com/wp-content/uploads/2026/03/event-2790.jpg
END:VEVENT
BEGIN:VEVENT
DTSTART;TZID=America/New_York:20260912T100000
DTEND;TZID=America/New_York:20260912T150000
DTSTAMP:20260425T114608
CREATED:20260308T130330Z
LAST-MODIFIED:20260308T130330Z
UID:1357-1789207200-1789225200@maineguide.com
SUMMARY:Maine Open Lighthouse Day
DESCRIPTION:Once a year in September\, the US Coast Guard opens Maine’s working lighthouses to the public for tours and demonstrations — a rare chance to climb active light towers and meet the keepers.
URL:https://maineguide.com/event/maine-open-lighthouse-day/
CATEGORIES:Outdoor Recreation
ATTACH;FMTTYPE=image/jpeg:https://maineguide.com/wp-content/uploads/2026/03/Ogunquit-Maine-vacation-2.jpg
END:VEVENT
BEGIN:VEVENT
DTSTART;TZID=America/New_York:20260912T100000
DTEND;TZID=America/New_York:20260912T170000
DTSTAMP:20260425T114608
CREATED:20260325T101411Z
LAST-MODIFIED:20260325T101411Z
UID:2932-1789207200-1789232400@maineguide.com
SUMMARY:International Seaplane Fly-In
DESCRIPTION:Historic seaplanes land on Moosehead Lake before crowds of 10000 with a poker run and pilot meetups.
URL:https://maineguide.com/event/international-seaplane-fly-in/
LOCATION:Greenville\, Maine\, Greenville\, Maine
ATTACH;FMTTYPE=image/jpeg:https://maineguide.com/wp-content/uploads/2026/03/event-2932.jpg
END:VEVENT
END:VCALENDAR