BEGIN:VCALENDAR
VERSION:2.0
PRODID:-//MaineGuide.com - ECPv6.15.18//NONSGML v1.0//EN
CALSCALE:GREGORIAN
METHOD:PUBLISH
X-ORIGINAL-URL:https://maineguide.com
X-WR-CALDESC:Events for MaineGuide.com
REFRESH-INTERVAL;VALUE=DURATION:PT1H
X-Robots-Tag:noindex
X-PUBLISHED-TTL:PT1H
BEGIN:VTIMEZONE
TZID:America/New_York
BEGIN:DAYLIGHT
TZOFFSETFROM:-0500
TZOFFSETTO:-0400
TZNAME:EDT
DTSTART:20250309T070000
END:DAYLIGHT
BEGIN:STANDARD
TZOFFSETFROM:-0400
TZOFFSETTO:-0500
TZNAME:EST
DTSTART:20251102T060000
END:STANDARD
BEGIN:DAYLIGHT
TZOFFSETFROM:-0500
TZOFFSETTO:-0400
TZNAME:EDT
DTSTART:20260308T070000
END:DAYLIGHT
BEGIN:STANDARD
TZOFFSETFROM:-0400
TZOFFSETTO:-0500
TZNAME:EST
DTSTART:20261101T060000
END:STANDARD
BEGIN:DAYLIGHT
TZOFFSETFROM:-0500
TZOFFSETTO:-0400
TZNAME:EDT
DTSTART:20270314T070000
END:DAYLIGHT
BEGIN:STANDARD
TZOFFSETFROM:-0400
TZOFFSETTO:-0500
TZNAME:EST
DTSTART:20271107T060000
END:STANDARD
END:VTIMEZONE
BEGIN:VEVENT
DTSTART;TZID=America/New_York:20260919T120000
DTEND;TZID=America/New_York:20260919T180000
DTSTAMP:20260425T113142
CREATED:20260308T133647Z
LAST-MODIFIED:20260324T122122Z
UID:1404-1789819200-1789840800@maineguide.com
SUMMARY:Maine Lobster Crawl
DESCRIPTION:
URL:https://maineguide.com/event/maine-lobster-crawl/
ATTACH;FMTTYPE=image/jpeg:https://maineguide.com/wp-content/uploads/2026/03/event-1404.jpg
END:VEVENT
BEGIN:VEVENT
DTSTART;TZID=America/New_York:20260921T080000
DTEND;TZID=America/New_York:20260926T230000
DTSTAMP:20260425T113142
CREATED:20260308T130322Z
LAST-MODIFIED:20260308T130322Z
UID:1346-1789977600-1790463600@maineguide.com
SUMMARY:Acadia Night Sky Festival
DESCRIPTION:A week-long celebration of Acadia National Park’s exceptional dark skies\, featuring ranger programs\, telescope viewing\, photography workshops\, and presentations by astronomers from across the country.
URL:https://maineguide.com/event/acadia-night-sky-festival/
LOCATION:Bar Harbor\, Maine\, Bar Harbor\, Maine
CATEGORIES:Festivals
ATTACH;FMTTYPE=image/jpeg:https://maineguide.com/wp-content/uploads/2026/03/Bar-Harbor-Maine-vacation-2.jpg
END:VEVENT
BEGIN:VEVENT
DTSTART;TZID=America/New_York:20260926T080000
DTEND;TZID=America/New_York:20260926T140000
DTSTAMP:20260425T113142
CREATED:20260308T133524Z
LAST-MODIFIED:20260308T133524Z
UID:1397-1790409600-1790431200@maineguide.com
SUMMARY:Maine Running Festival
DESCRIPTION:
URL:https://maineguide.com/event/maine-running-festival/
ATTACH;FMTTYPE=image/png:https://maineguide.com/wp-content/uploads/2026/03/event-1397.png
END:VEVENT
BEGIN:VEVENT
DTSTART;TZID=America/New_York:20261001T100000
DTEND;TZID=America/New_York:20261004T180000
DTSTAMP:20260425T113142
CREATED:20260308T133418Z
LAST-MODIFIED:20260308T133418Z
UID:1391-1790848800-1791136800@maineguide.com
SUMMARY:Ogunquit Fest
DESCRIPTION:
URL:https://maineguide.com/event/ogunquit-fest/
LOCATION:Ogunquit\, Maine\, Ogunquit\, Maine
ATTACH;FMTTYPE=image/jpeg:https://maineguide.com/wp-content/uploads/2026/03/event-1391.jpg
END:VEVENT
BEGIN:VEVENT
DTSTART;TZID=America/New_York:20261001T100000
DTEND;TZID=America/New_York:20261004T230000
DTSTAMP:20260425T113142
CREATED:20260308T133450Z
LAST-MODIFIED:20260308T133450Z
UID:1394-1790848800-1791154800@maineguide.com
SUMMARY:Camden International Film Festival
DESCRIPTION:
URL:https://maineguide.com/event/camden-international-film-festival/
LOCATION:Camden\, Maine\, Camden\, Maine
ATTACH;FMTTYPE=image/jpeg:https://maineguide.com/wp-content/uploads/2026/03/event-1394.jpg
END:VEVENT
BEGIN:VEVENT
DTSTART;TZID=America/New_York:20261002T100000
DTEND;TZID=America/New_York:20261004T180000
DTSTAMP:20260425T113142
CREATED:20260308T133535Z
LAST-MODIFIED:20260308T133535Z
UID:1398-1790935200-1791136800@maineguide.com
SUMMARY:Boothbay Harbor Fest
DESCRIPTION:
URL:https://maineguide.com/event/boothbay-harbor-fest/
LOCATION:Boothbay Harbor\, Maine\, Boothbay Harbor\, Maine
ATTACH;FMTTYPE=image/jpeg:https://maineguide.com/wp-content/uploads/2026/03/event-1398.jpg
END:VEVENT
BEGIN:VEVENT
DTSTART;TZID=America/New_York:20261003T090000
DTEND;TZID=America/New_York:20261003T150000
DTSTAMP:20260425T113142
CREATED:20260308T133547Z
LAST-MODIFIED:20260308T133547Z
UID:1399-1791018000-1791039600@maineguide.com
SUMMARY:Kennebec Valley Trails Fall Foliage Hike
DESCRIPTION:
URL:https://maineguide.com/event/kennebec-valley-trails-fall-foliage-hike/
ATTACH;FMTTYPE=image/jpeg:https://maineguide.com/wp-content/uploads/2026/03/event-1399.jpg
END:VEVENT
BEGIN:VEVENT
DTSTART;TZID=America/New_York:20261004T080000
DTEND;TZID=America/New_York:20261011T220000
DTSTAMP:20260425T113142
CREATED:20260308T130329Z
LAST-MODIFIED:20260308T130329Z
UID:1353-1791100800-1791756000@maineguide.com
SUMMARY:Fryeburg Fair
DESCRIPTION:Maine’s largest agricultural fair and one of New England’s finest\, the Fryeburg Fair runs for eight days each October with livestock exhibitions\, harness racing\, midway rides\, ox pulls\, and classic fair food.
URL:https://maineguide.com/event/fryeburg-fair/
CATEGORIES:Festivals
ATTACH;FMTTYPE=image/jpeg:https://maineguide.com/wp-content/uploads/2026/03/Maine-foliage-best-2.jpg
END:VEVENT
BEGIN:VEVENT
DTSTART;TZID=America/New_York:20261009T090000
DTEND;TZID=America/New_York:20261012T180000
DTSTAMP:20260425T113142
CREATED:20260308T133406Z
LAST-MODIFIED:20260308T133406Z
UID:1390-1791536400-1791828000@maineguide.com
SUMMARY:Damariscotta Pumpkinfest
DESCRIPTION:
URL:https://maineguide.com/event/damariscotta-pumpkinfest/
LOCATION:Damariscotta\, Maine\, Damariscotta\, Maine
ATTACH;FMTTYPE=image/jpeg:https://maineguide.com/wp-content/uploads/2026/03/event-1390.jpg
END:VEVENT
BEGIN:VEVENT
DTSTART;TZID=America/New_York:20261010T100000
DTEND;TZID=America/New_York:20261010T170000
DTSTAMP:20260425T113142
CREATED:20260325T101411Z
LAST-MODIFIED:20260325T101411Z
UID:2935-1791626400-1791651600@maineguide.com
SUMMARY:Kennebunk HarvestFest
DESCRIPTION:Farmers market\, parade\, craft fair\, food\, music\, and guided nature tours in downtown Kennebunk.
URL:https://maineguide.com/event/kennebunk-harvestfest/
LOCATION:Kennebunk\, Maine\, Kennebunk\, Maine
ATTACH;FMTTYPE=image/jpeg:https://maineguide.com/wp-content/uploads/2026/03/event-2935.jpg
END:VEVENT
BEGIN:VEVENT
DTSTART;TZID=America/New_York:20261015T110000
DTEND;TZID=America/New_York:20261018T210000
DTSTAMP:20260425T113142
CREATED:20260308T133439Z
LAST-MODIFIED:20260308T133439Z
UID:1393-1792062000-1792357200@maineguide.com
SUMMARY:Harvest on the Harbor Portland
DESCRIPTION:
URL:https://maineguide.com/event/harvest-on-the-harbor-portland/
LOCATION:Portland\, Maine\, Portland\, Maine
ATTACH;FMTTYPE=image/jpeg:https://maineguide.com/wp-content/uploads/2026/03/event-1393.jpg
END:VEVENT
BEGIN:VEVENT
DTSTART;TZID=America/New_York:20261017T080000
DTEND;TZID=America/New_York:20261017T140000
DTSTAMP:20260425T113142
CREATED:20260308T133512Z
LAST-MODIFIED:20260308T133512Z
UID:1396-1792224000-1792245600@maineguide.com
SUMMARY:Acadia Half Marathon
DESCRIPTION:
URL:https://maineguide.com/event/acadia-half-marathon/
LOCATION:Bar Harbor\, Maine\, Bar Harbor\, Maine
ATTACH;FMTTYPE=image/jpeg:https://maineguide.com/wp-content/uploads/2026/03/event-1396-v2.jpg
END:VEVENT
BEGIN:VEVENT
DTSTART;TZID=America/New_York:20261031T090000
DTEND;TZID=America/New_York:20261031T170000
DTSTAMP:20260425T113142
CREATED:20260324T102839Z
LAST-MODIFIED:20260324T102839Z
UID:2792-1793437200-1793466000@maineguide.com
SUMMARY:Witches of Eastport
DESCRIPTION:Halloween celebration featuring costumed witches parading through downtown Eastport.
URL:https://maineguide.com/event/witches-of-eastport/
LOCATION:Eastport\, Maine\, Eastport\, Maine
ATTACH;FMTTYPE=image/jpeg:https://maineguide.com/wp-content/uploads/2026/03/event-2792.jpg
END:VEVENT
BEGIN:VEVENT
DTSTART;TZID=America/New_York:20261107T090000
DTEND;TZID=America/New_York:20261108T170000
DTSTAMP:20260425T113142
CREATED:20260308T130323Z
LAST-MODIFIED:20260308T130323Z
UID:1347-1794042000-1794157200@maineguide.com
SUMMARY:Maine Harvest Festival
DESCRIPTION:A celebration of Maine’s agricultural bounty held each November in Augusta\, featuring local farmers\, food producers\, crafters\, and artisans from across the state.
URL:https://maineguide.com/event/maine-harvest-festival/
CATEGORIES:Festivals
ATTACH;FMTTYPE=image/jpeg:https://maineguide.com/wp-content/uploads/2026/03/Maine-foliage-best-2.jpg
END:VEVENT
BEGIN:VEVENT
DTSTART;TZID=America/New_York:20261127T100000
DTEND;TZID=America/New_York:20261231T210000
DTSTAMP:20260425T113142
CREATED:20260308T132853Z
LAST-MODIFIED:20260308T132853Z
UID:1366-1795773600-1798750800@maineguide.com
SUMMARY:Victorian Holiday Portland
DESCRIPTION:
URL:https://maineguide.com/event/victorian-holiday-portland/
LOCATION:Portland\, Maine\, Portland\, Maine
ATTACH;FMTTYPE=image/jpeg:https://maineguide.com/wp-content/uploads/2026/03/event-1366.jpg
END:VEVENT
BEGIN:VEVENT
DTSTART;TZID=America/New_York:20261204T100000
DTEND;TZID=America/New_York:20261213T210000
DTSTAMP:20260425T113142
CREATED:20260308T132841Z
LAST-MODIFIED:20260308T132841Z
UID:1365-1796378400-1797195600@maineguide.com
SUMMARY:Christmas Prelude Kennebunkport
DESCRIPTION:
URL:https://maineguide.com/event/christmas-prelude-kennebunkport/
LOCATION:Kennebunkport\, Maine\, Kennebunkport\, Maine
ATTACH;FMTTYPE=image/jpeg:https://maineguide.com/wp-content/uploads/2026/03/event-1365.jpg
END:VEVENT
BEGIN:VEVENT
DTSTART;TZID=America/New_York:20261205T080000
DTEND;TZID=America/New_York:20261205T140000
DTSTAMP:20260425T113142
CREATED:20260308T132828Z
LAST-MODIFIED:20260308T132828Z
UID:1364-1796457600-1796479200@maineguide.com
SUMMARY:Millinocket Marathon & Half
DESCRIPTION:
URL:https://maineguide.com/event/millinocket-marathon-half/
LOCATION:Millinocket\, Maine\, Millinocket\, Maine
ATTACH;FMTTYPE=image/jpeg:https://maineguide.com/wp-content/uploads/2026/03/event-1364.jpg
END:VEVENT
BEGIN:VEVENT
DTSTART;TZID=America/New_York:20261205T100000
DTEND;TZID=America/New_York:20261205T170000
DTSTAMP:20260425T113142
CREATED:20260325T101411Z
LAST-MODIFIED:20260325T101411Z
UID:2936-1796464800-1796490000@maineguide.com
SUMMARY:Sparkle Celebration
DESCRIPTION:Freeport holiday Parade of Lights\, concerts\, Santa visits\, and the famous Talking Christmas Tree.
URL:https://maineguide.com/event/sparkle-celebration/
LOCATION:Freeport\, Maine\, Freeport\, Maine
ATTACH;FMTTYPE=image/jpeg:https://maineguide.com/wp-content/uploads/2026/03/event-2936.jpg
END:VEVENT
BEGIN:VEVENT
DTSTART;TZID=America/New_York:20261205T100000
DTEND;TZID=America/New_York:20261205T170000
DTSTAMP:20260425T113142
CREATED:20260325T101411Z
LAST-MODIFIED:20260325T101411Z
UID:2937-1796464800-1796490000@maineguide.com
SUMMARY:Christmas by the Sea
DESCRIPTION:Seaside Christmas in Ogunquit with parade\, caroling\, entertainment\, shopping\, and fireworks on the beach.
URL:https://maineguide.com/event/christmas-by-the-sea/
LOCATION:Ogunquit\, Maine\, Ogunquit\, Maine
ATTACH;FMTTYPE=image/jpeg:https://maineguide.com/wp-content/uploads/2026/03/event-2937.jpg
END:VEVENT
BEGIN:VEVENT
DTSTART;TZID=America/New_York:20261205T100000
DTEND;TZID=America/New_York:20261205T170000
DTSTAMP:20260425T113142
CREATED:20260325T101411Z
LAST-MODIFIED:20260325T101411Z
UID:2938-1796464800-1796490000@maineguide.com
SUMMARY:Mountain Holly Days
DESCRIPTION:Rangeley holiday shopping with specials in participating shops\, open houses\, and shoppers raffles.
URL:https://maineguide.com/event/mountain-holly-days/
LOCATION:Rangeley\, Maine\, Rangeley\, Maine
ATTACH;FMTTYPE=image/jpeg:https://maineguide.com/wp-content/uploads/2026/03/event-2938.jpg
END:VEVENT
END:VCALENDAR